BEGIN:VCALENDAR
VERSION:2.0
PRODID:-//zedita - ECPv6.11.1//NONSGML v1.0//EN
CALSCALE:GREGORIAN
METHOD:PUBLISH
X-WR-CALNAME:zedita
X-ORIGINAL-URL:https://zedita.de
X-WR-CALDESC:Veranstaltungen für zedita
REFRESH-INTERVAL;VALUE=DURATION:PT1H
X-Robots-Tag:noindex
X-PUBLISHED-TTL:PT1H
BEGIN:VTIMEZONE
TZID:Europe/Berlin
BEGIN:DAYLIGHT
TZOFFSETFROM:+0100
TZOFFSETTO:+0200
TZNAME:CEST
DTSTART:20260329T010000
END:DAYLIGHT
BEGIN:STANDARD
TZOFFSETFROM:+0200
TZOFFSETTO:+0100
TZNAME:CET
DTSTART:20261025T010000
END:STANDARD
END:VTIMEZONE
BEGIN:VEVENT
DTSTART;TZID=Europe/Berlin:20260212T090000
DTEND;TZID=Europe/Berlin:20260212T100000
DTSTAMP:20260424T124835
CREATED:20251202T083423Z
LAST-MODIFIED:20251202T083423Z
UID:6168-1770886800-1770890400@zedita.de
SUMMARY:Community Frühstück Februar
DESCRIPTION:Einmal im Monat laden wir zum offenen Community Frühstück ein. Jeder – egal ob Besucher*innen oder Mitglied — ist herzlich eingeladen vorbeizukommen. Wir treffen uns\, um gemeinsam entspannt bei gutem Kaffee und leckerem Frühstück uns auszutauschen\, kennenzulernen und neue Impulse zu bekommen. Das Frühstück ist kostenfrei. Wir freuen uns auf euch. 🙂
URL:https://zedita.de/event/community-fruehstueck-februar-3/
LOCATION:zedita\, Bahnhofsplatz 19\, Hameln
CATEGORIES:Community-Frühstück,Public
ATTACH;FMTTYPE=image/png:https://zedita.de/wp-content/uploads/2024/07/Community-Fruehstueck-1.png
END:VEVENT
BEGIN:VEVENT
DTSTART;TZID=Europe/Berlin:20260212T110000
DTEND;TZID=Europe/Berlin:20260212T140000
DTSTAMP:20260424T124835
CREATED:20260105T085713Z
LAST-MODIFIED:20260105T085713Z
UID:6247-1770894000-1770904800@zedita.de
SUMMARY:Gründungsprechtag
DESCRIPTION:Am Gründungsprechtag bei zedita berät die NBank zu Gründung und Förderung. \nZur NBank:\nWir fördern Niedersachsen – Als Förderbank für Niedersachsen unterstützt die Investitions- und Förderbank Niedersachsens – NBank das Land bei seinen struktur- und wirtschaftspolitischen Aufgaben.\nDie NBank steht für kompetente Wirtschafts-\, Arbeitsmarkt-\, Wohnraum- und Infrastrukturförderung. Unser oberstes Ziel: Die uns übertragenen Fördermittel verantwortungsvoll für Niedersachsen einzusetzen.\nWir sind der zentrale Ansprechpartner für alle relevanten Förderprogramme der Europäischen Union\, des Bundes und des Landes. Wir beraten unabhängig und fördern aus einer Hand. Unsere Kundschaft wird umfassend und individuell von uns nach bestem Wissen und Gewissen beraten.\nIn enger Zusammenarbeit mit regionalen Partnern bieten wir kostenlose Sprechtage an\, um gleichzeitig Fragen rund um die Gründung eines Unternehmens sowie Finanzierungs- und Fördermöglichkeiten eruieren zu können.
URL:https://zedita.de/event/gruendungsprechtag-2/
LOCATION:zedita\, Bahnhofsplatz 19\, Hameln
CATEGORIES:Gründungsprechtag,Public,startup
ATTACH;FMTTYPE=image/jpeg:https://zedita.de/wp-content/uploads/2026/01/Vorlage-Homepage-14.jpg
END:VEVENT
BEGIN:VEVENT
DTSTART;VALUE=DATE:20260219
DTEND;VALUE=DATE:20260320
DTSTAMP:20260424T124835
CREATED:20260127T095446Z
LAST-MODIFIED:20260127T095446Z
UID:6403-1771459200-1773964799@zedita.de
SUMMARY:Ausstellung „Die Torten der Wahrheit“
DESCRIPTION:Diese Ausstellung wird organisiert und durchgeführt vom Verein Denkanstoß Hameln e.V.. \nDie Ausstellung zeigt mit viel Humor\, welche Grundlagen und Auswirkungen in einigen Vorurteilen unserer Gesellschaft stecken. Sie geht damit Desinformationen und Fake News direkt auf den Grund.\nZielpublikum: Schulklassen\, Vereine u. Verbände\, Kommunalpolitik\, Verwaltungen\, interessierte Bürgerinnen u. Bürger\, Reisende. Wir bieten Führungen zur Ausstellung besonders für Schulkassen an. \nWeitere Informationen unter: www.denkanstoss-hameln.de
URL:https://zedita.de/event/ausstellung-die-torten-der-wahrheit/
LOCATION:Bahnhof Hameln\, Bahnhofsplatz\, Hameln\, 31785\, Germany
CATEGORIES:Public
ATTACH;FMTTYPE=image/jpeg:https://zedita.de/wp-content/uploads/2026/01/Vorlage-Homepage-20.jpg
END:VEVENT
BEGIN:VEVENT
DTSTART;TZID=Europe/Berlin:20260219T183000
DTEND;TZID=Europe/Berlin:20260219T203000
DTSTAMP:20260424T124835
CREATED:20260127T094857Z
LAST-MODIFIED:20260127T094857Z
UID:6400-1771525800-1771533000@zedita.de
SUMMARY:Vortrags- und Diskussionsveranstaltung: „Desinformation und Rechtsextremismus“
DESCRIPTION:Diese Veranstaltung wird organisiert und durchgeführt vom Verein Denkanstoß Hameln e.V.. \nCharlotte Lohmann zeigt in ihrem stichhaltigen Vortrag warum Desinformationen und Fake News entstehen\, warum sie eingesetzt werden und was wir aus ihrer Sicht dagegen tun können. Der Vortrag trägt den Untertitel: „Handlungsstrategien gegen Hetze\, Hass und Desinformationen “\nReferentin: Charlotte Lohmann\, Referentin bei der Amadeo Antonio Stiftung \nWeitere Informationen unter: www.denkanstoss-hameln.de
URL:https://zedita.de/event/vortrags-und-diskussionsveranstaltung-desinformation-und-rechtsextremismus/
LOCATION:zedita\, Bahnhofsplatz 19\, Hameln
CATEGORIES:Public
ATTACH;FMTTYPE=image/jpeg:https://zedita.de/wp-content/uploads/2026/01/Vorlage-Homepage-19.jpg
END:VEVENT
BEGIN:VEVENT
DTSTART;TZID=Europe/Berlin:20260225T090000
DTEND;TZID=Europe/Berlin:20260225T130000
DTSTAMP:20260424T124835
CREATED:20251209T140546Z
LAST-MODIFIED:20260216T065954Z
UID:6191-1772010000-1772024400@zedita.de
SUMMARY:Kick-off „Business Welcome Center Hameln“
DESCRIPTION:Die Gewinnung und Bindung qualifizierter Fachkräfte ist für viele Unternehmen in unserer Region zu einer zentralen Zukunftsfrage geworden. Mit dem Projekt „Business Welcome Center Hameln“ wollen wir gemeinsam mit Ihnen einen strategischen Ansatz entwickeln\, um diese Herausforderung aktiv anzugehen. \nZiel des Projektes ist es\, die Fachkräftesicherung in den Landkreisen Hameln-Pyrmont\, Nienburg\, Schaumburg und Holzminden nachhaltig zu stärken\, Unternehmen gezielt bei Rekrutierung und Integration zu unterstützen und eine gelebte Willkommenskultur aufzubauen. Das Business Welcome Center versteht sich dabei als Brückenbauer zwischen internationalen Fachkräften\, regionalen Unternehmen und institutionellen Akteuren – und möchte das Image der Region als wirtschaftsfreundlichen\, offenen und innovativen Standort sichtbar und erlebbar machen. \nWas erwartet Sie? \nVorstellung des Projekts „Business Welcome Center Hameln“ \n\n– Ziele\, Bausteine und geplante Angebote für Unternehmen\n– Rolle der regionalen Akteure und Kooperationsmöglichkeiten\n\nBedarfs- und Erwartungsanalyse zur Fachkräftesituation \n\n– Austausch zur aktuellen Fachkräftesituation in den Schlüsselbranchen\nIT\, Ingenieurwesen\, Chemie\, Pflege und Gastronomie\n– Erhebung Ihrer konkreten Bedarfe und Erwartungen an Unterstützung\, Services und Kooperationen\n\nErwartungsabfrage zur Entwicklung einer innovativen Matching-Plattform \n\n– Diskussion von Anforderungen an eine Zusammenführung zwischen Arbeitgebern und Bewerber:innen\n– Sammlung von Erwartungen zu: Matching-Kriterien\, transparenten Profil- und Bewertungssystemen\, Optimierung des gesamten Vermittlungsprozesses\, Trainings- und Integrationsmaßnahmen für Unternehmen und Bewerbende\n\nIhre Teilnahme ist für uns von großer Bedeutung\, da das Business Welcome Center Hameln nur dann erfolgreich sein kann\, wenn es sich eng an den Bedürfnissen der Unternehmen und Verbände in der Region orientiert. \nWir freuen uns darauf\, gemeinsam mit Ihnen die Fachkräftesicherung in unserer Region aktiv zu gestalten. \nBitte beachten Sie: \nFür eine optimale Planung der Veranstaltung sowie die Erstellung persönlicher Namensschilder bitten wir darum\, jede teilnehmende Person separat anzumelden\, auch wenn mehrere Personen aus demselben Unternehmen teilnehmen. \nAnmeldeschluss ist am 13.02.2026. \n 
URL:https://zedita.de/event/kick-off-business-welcome-center-hameln/
LOCATION:zedita\, Bahnhofsplatz 19\, Hameln
CATEGORIES:Public
ATTACH;FMTTYPE=image/jpeg:https://zedita.de/wp-content/uploads/2025/12/Vorlage-Homepage-startup.jpg
END:VEVENT
BEGIN:VEVENT
DTSTART;TZID=Europe/Berlin:20260225T160000
DTEND;TZID=Europe/Berlin:20260225T180000
DTSTAMP:20260424T124835
CREATED:20260127T093211Z
LAST-MODIFIED:20260127T093211Z
UID:6395-1772035200-1772042400@zedita.de
SUMMARY:zufo.meetup Datenkompetenz: Exkursion zur Ausstellung Torten der Wahrheit
DESCRIPTION:Wer kennt sie nicht\, die Torten der Wahrheit von Katja Berlin? \nDemnächst werden diese in Hameln ausgestellt und ich möchte die Gelegenheit für ein besonderes Meetup der Community für Datenkompetenz nutzen:\nWir machen eine Exkursion und schauen uns – ein Stockwerk tiefer im Bahnhof – gemeinsam die Ausstellung an und können darüber diskutieren. \n Termin: 25.02.2026 um 16 Uhr\n📍 Ort: Treffen im Bahnhof Hameln (vor dem ehem. Pressezentrum)
URL:https://zedita.de/event/zufo-meetup-datenkompetenz-exkursion-zur-ausstellung-torten-der-wahrheit/
LOCATION:Bahnhof Hameln\, Bahnhofsplatz\, Hameln\, 31785\, Germany
CATEGORIES:Public,zukunftsforum
ATTACH;FMTTYPE=image/jpeg:https://zedita.de/wp-content/uploads/2026/01/Vorlage-Homepage-18.jpg
END:VEVENT
END:VCALENDAR