BEGIN:VCALENDAR
VERSION:2.0
PRODID:-//zedita - ECPv6.11.1//NONSGML v1.0//EN
CALSCALE:GREGORIAN
METHOD:PUBLISH
X-WR-CALNAME:zedita
X-ORIGINAL-URL:https://zedita.de
X-WR-CALDESC:Veranstaltungen für zedita
REFRESH-INTERVAL;VALUE=DURATION:PT1H
X-Robots-Tag:noindex
X-PUBLISHED-TTL:PT1H
BEGIN:VTIMEZONE
TZID:Europe/Berlin
BEGIN:DAYLIGHT
TZOFFSETFROM:+0100
TZOFFSETTO:+0200
TZNAME:CEST
DTSTART:20240331T010000
END:DAYLIGHT
BEGIN:STANDARD
TZOFFSETFROM:+0200
TZOFFSETTO:+0100
TZNAME:CET
DTSTART:20241027T010000
END:STANDARD
END:VTIMEZONE
BEGIN:VEVENT
DTSTART;TZID=Europe/Berlin:20240905T163000
DTEND;TZID=Europe/Berlin:20240905T200000
DTSTAMP:20260423T121850
CREATED:20240814T080105Z
LAST-MODIFIED:20240904T101626Z
UID:5612-1725553800-1725566400@zedita.de
SUMMARY:MINZE 24 MINT-Forum im Weserbergland zedita meets SFZ Hameln-Pyrmont
DESCRIPTION:Gemeinsam mit dem Schülerforschungszentrum (SFZ) Hameln-Pyrmont möchten wir mit dem Event MINZE 24 im historischen Kaisersaal des Hamelner Bahnhofs wichtige Akteure aus Wirtschaft\, Politik\, Wissenschaft und den Bildungseinrichtungen jährlich zusammenbringen\, um dem Fachkräftemangel im MINT-Bereich langfristig zu begegnen. \nZiel ist es\, das SFZ Hameln-Pyrmont zu unterstützen\, das Kindern und Jugendlichen eine Plattform bietet\, ihre mathematischen\, naturwissenschaftlichen oder technischen Interessen unter Gleichgesinnten auszuleben und weiterzuentwickeln. \nWas wir bieten: \n\n– Kennenlernen der Fachkräfte von morgen\n– Entdecken von Möglichkeiten des Schülerforschungszentrums Hameln-Pyrmont\n– Einen schönen Abend im historischen Kaisersaal des Hamelner Bahnhofs\n\nProgramm \n\nBegrüßung\nKurzvorträge ausgewählter MINT-Akteure\nSchülerexperimente live erleben\nImbiss & Get Together\nQuiznight
URL:https://zedita.de/event/minze24/
LOCATION:zedita\, Bahnhofsplatz 19\, Hameln
ATTACH;FMTTYPE=image/jpeg:https://zedita.de/wp-content/uploads/2024/08/Gross-Bild_MINZE24_zedita_Seite.jpeg
END:VEVENT
BEGIN:VEVENT
DTSTART;TZID=Europe/Berlin:20240910T120000
DTEND;TZID=Europe/Berlin:20240910T130000
DTSTAMP:20260423T121850
CREATED:20240603T121314Z
LAST-MODIFIED:20240621T074224Z
UID:5281-1725969600-1725973200@zedita.de
SUMMARY:zufo.meetup Datenkompetenz: Wie machen wir weiter? (online)
DESCRIPTION:Die ersten Meetups sind gelaufen\, die Community findet sich langsam und nun wollen wir gemeinsam planen\, was unsere nächsten Schritte sein sollen. Welche Themen haben euch besonders interessiert? Woran möchtet ihr weiter arbeiten? Brauchen wir noch andere Formate? \nLasst uns nach der (kurzen) Sommerpause gemeinsam reflektieren\, was war und was kommen soll.\nBisher nie dabei gewesen\, aber neugierig? Komm dazu!
URL:https://zedita.de/event/zufo-meetup-datenkompetenz-wie-machen-wir-weiter-online/
LOCATION:Microsoft Teams
CATEGORIES:Public,zukunftsforum
ATTACH;FMTTYPE=image/jpeg:https://zedita.de/wp-content/uploads/2024/06/Vorlage-Homepage-1.jpg
END:VEVENT
BEGIN:VEVENT
DTSTART;TZID=Europe/Berlin:20240912T094500
DTEND;TZID=Europe/Berlin:20240912T170000
DTSTAMP:20260423T121850
CREATED:20240417T085519Z
LAST-MODIFIED:20240417T085811Z
UID:5198-1726134300-1726160400@zedita.de
SUMMARY:HSW Energiesymposium: Was kommt nach dem Hype? Status und regionale Nutzungspotentiale der Wasserstoffwelt
DESCRIPTION:Die Hochschule Weserbergland (HSW) lädt am 12. September 2024 zum Energiesymposium in den Kaisersaal des zedita.digitalhub im Bahnhof Hameln ein. \nVor einigen Jahren gab es einen regelrechten Hype um Wasserstoff als saubere Energiequelle und Option zur Speicherung fluktuierender erneuerbarer Energien. In der jüngsten Vergangenheit hat sich der Hype gelegt\, dennoch wird Wasserstoff weiterhin als wichtiger Schlüssel für die weitereUmsetzung der Energiewende und die Erreichung einer klimaneutralen Wirtschaft betrachtet. \nAuf dem Hamelner Energiesymposium möchte die HSW daher einen Blick auf den aktuellen Status der Wasserstoffwirtschaft werfen und betrachten\, wo die tatsächlichen Potentiale der Wasserstoffnutzung liegen – und wo nicht. \nDas Programm des Symposiums ist hochaktuell und reicht von der Sicht der Technologieunternehmen über die nationalen und internationalen Herkunftsoptionen und Einsatzoptionen von Wasserstoff bis hin zu Handlungsempfehlungen an Gesetzgeber. Im Anschluss an die Vorträge und Diskussionen lädt die HSW zu einem informellen Get-together ein\, um die Themen weiter zu vertiefen und Networking-Möglichkeiten zu schaffen. \nWeitere Infos und die Möglichkeit zur Anmeldung unter: https://www.hsw-hameln.de/termine/energiesymposium/
URL:https://zedita.de/event/hsw-energiesymposium-was-kommt-nach-dem-hype-status-und-regionale-nutzungspotentiale-der-wasserstoffwelt/
LOCATION:zedita\, Bahnhofsplatz 19\, Hameln
CATEGORIES:Public
ATTACH;FMTTYPE=image/jpeg:https://zedita.de/wp-content/uploads/2024/04/Vorlage-Homepage-3.jpg
END:VEVENT
BEGIN:VEVENT
DTSTART;TZID=Europe/Berlin:20240913T100000
DTEND;TZID=Europe/Berlin:20240913T120000
DTSTAMP:20260423T121850
CREATED:20240812T122947Z
LAST-MODIFIED:20240812T122947Z
UID:5608-1726221600-1726228800@zedita.de
SUMMARY:zufo.meetup Cyber Security: Einführung von NIS2 (zedita)
DESCRIPTION:Das nächste Treffen der „Cyber Security“ Community im Rahmen des zedita.zukunftsforums (ZuFo) wird sich vorrangig um die nahende Einführung von NIS2 (zweite EU-Richtlinie zur Netzwerk- und Informationssicherheit) drehen. Wie so häufig bei der Einführung von neuen Richtlinien\, gibt es auch im Zusammenhang mit NIS2 viel Unsicherheit. Ist mein Unternehmen betroffen? Bin ich als Teil der Lieferkette eines Kunden betroffen? Welche Maßnahmen müssen ergriffen werden? Welche Herausforderungen gehen damit einher? Über diese und weitere Fragen werden wir erneut in lockerer Runde sprechen und uns austauschen. Dabei steht uns ein externer Experte zur Seite\, der zunächst allgemein über NIS2 aufklären und anschließend für Fragen aus der Community zur Verfügung stehen wird.
URL:https://zedita.de/event/zufo-meetup-cyber-security-einfuehrung-von-nis2/
LOCATION:zedita\, Bahnhofsplatz 19\, Hameln
CATEGORIES:Public,zukunftsforum
ATTACH;FMTTYPE=image/jpeg:https://zedita.de/wp-content/uploads/2024/08/Vorlage-Homepage-10.jpg
END:VEVENT
BEGIN:VEVENT
DTSTART;TZID=Europe/Berlin:20240917T170000
DTEND;TZID=Europe/Berlin:20240917T210000
DTSTAMP:20260423T121850
CREATED:20240103T110140Z
LAST-MODIFIED:20240904T110414Z
UID:4842-1726592400-1726606800@zedita.de
SUMMARY:After Work Event
DESCRIPTION:Wie komme ich als Unternehmen an die richtigen Mitarbeitenden und wie bleibe ich auch danach als Arbeitgeber attraktiv? Mit diesen und weiteren Fragen rund um die Zukunftsthemen Recruiting und Employer Branding setzen wir uns bei unserem nächsten After Work Event am 17. September auseinander. \nDich erwarten die folgenden drei Impulsvorträge unserer Speaker: \n\nRonja Dornfeld (clipvert): Ronja ist in Hameln aufgewachsen und unterstützt mit ihrer Agentur clipvert mit Sitz in Berlin Unternehmen bei der Präsentation als Arbeitgeber über TikTok – mit zeitgemäßer Beratung und Umsetzung zum Employer Branding und Recruiting.\nJulian Tönsgöke (elektroma): Als größtes Handwerksunternehmen der Region setzt sich elektroma vielfältig für Mitarbeiterbindung und deren Zufriedenheit ein. Julian kümmert sich um die Themen Qualitätsmanagement\, Digitalisierung und (Personal)Marketing und gibt einen Einblick.\nLena Fritsch (Stadt Hameln): Lena ist Sachgebietsleitung Personalentwicklung und an der Entwicklung der Arbeitgebermarke der Stadt Hameln maßgeblich beteiligt. Sie nimmt uns mit hinter die Kulissen der Stadtverwaltung.
URL:https://zedita.de/event/after-work-event-4/
LOCATION:zedita\, Bahnhofsplatz 19\, Hameln
CATEGORIES:Public
ATTACH;FMTTYPE=image/png:https://zedita.de/wp-content/uploads/2023/05/Kopie-von-Kein-Titel-Praesentation-169.png
END:VEVENT
BEGIN:VEVENT
DTSTART;TZID=Europe/Berlin:20240925T090000
DTEND;TZID=Europe/Berlin:20240925T100000
DTSTAMP:20260423T121850
CREATED:20240708T075414Z
LAST-MODIFIED:20240708T075414Z
UID:5563-1727254800-1727258400@zedita.de
SUMMARY:Community Frühstück September
DESCRIPTION:Einmal im Monat laden wir zum offenen Community Frühstück ein. Jeder – egal ob Besucher*innen oder Mitglied — ist herzlich eingeladen vorbeizukommen. Wir treffen uns\, um gemeinsam entspannt bei gutem Kaffee und leckerem Frühstück uns auszutauschen\, kennenzulernen und neue Impulse zu bekommen. Das Frühstück ist kostenfrei. Wir freuen uns auf euch. 🙂
URL:https://zedita.de/event/community-fruehstueck-september-2/
LOCATION:zedita\, Bahnhofsplatz 19\, Hameln
CATEGORIES:Community,Public
ATTACH;FMTTYPE=image/png:https://zedita.de/wp-content/uploads/2024/07/Community-Fruehstueck.png
END:VEVENT
END:VCALENDAR