BEGIN:VCALENDAR
VERSION:2.0
PRODID:-//zedita - ECPv6.11.1//NONSGML v1.0//EN
CALSCALE:GREGORIAN
METHOD:PUBLISH
X-ORIGINAL-URL:https://zedita.de
X-WR-CALDESC:Veranstaltungen für zedita
REFRESH-INTERVAL;VALUE=DURATION:PT1H
X-Robots-Tag:noindex
X-PUBLISHED-TTL:PT1H
BEGIN:VTIMEZONE
TZID:Europe/Berlin
BEGIN:DAYLIGHT
TZOFFSETFROM:+0100
TZOFFSETTO:+0200
TZNAME:CEST
DTSTART:20260329T010000
END:DAYLIGHT
BEGIN:STANDARD
TZOFFSETFROM:+0200
TZOFFSETTO:+0100
TZNAME:CET
DTSTART:20261025T010000
END:STANDARD
END:VTIMEZONE
BEGIN:VEVENT
DTSTART;TZID=Europe/Berlin:20260903T170000
DTEND;TZID=Europe/Berlin:20260903T210000
DTSTAMP:20260422T144700
CREATED:20251205T081250Z
LAST-MODIFIED:20260309T115444Z
UID:6187-1788454800-1788469200@zedita.de
SUMMARY:After Work Event
DESCRIPTION:After Work: Lasst uns netzwerken!\nWir wollen uns vernetzen. Deswegen bieten wir in Zusammenarbeit mit HamelnR regelmäßige After Work Events an. \nWorum geht es?\nOb Unternehmer\, Startups oder einfach Interessierte – bei uns sind alle willkommen\, die Lust auf spannende Kontakte und inspirierenden Austausch haben. Bei guter Musik und erfrischenden Drinks entsteht die perfekte Gelegenheit\, um neue Netzwerke zu knüpfen oder bestehende zu vertiefen.
URL:https://zedita.de/event/after-work-event-12/
LOCATION:zedita\, Bahnhofsplatz 19\, Hameln
CATEGORIES:Public
ATTACH;FMTTYPE=image/png:https://zedita.de/wp-content/uploads/2023/05/Kopie-von-Kein-Titel-Praesentation-169.png
END:VEVENT
BEGIN:VEVENT
DTSTART;TZID=Europe/Berlin:20260924T173000
DTEND;TZID=Europe/Berlin:20260924T193000
DTSTAMP:20260422T144700
CREATED:20260126T100516Z
LAST-MODIFIED:20260206T091422Z
UID:6391-1790271000-1790278200@zedita.de
SUMMARY:Themenabend für Gründende und Gründungsinteressierte: Marketing – Ideen sichtbar machen
DESCRIPTION:Erfolgreiches Marketing ist mehr als Werbung – es ist der Schlüssel\, um Ihre Geschäftsidee bekannt\, greifbar und attraktiv zu machen. Am 17.09.2026 erhalten Gründende und Gründungsinteressierte praxisnahe Einblicke\, wie sie ihre Zielgruppe erreichen\, ihre Botschaft klar vermitteln und nachhaltige Kundenbeziehungen aufbauen. \nDer Themenabend verbindet einen Impulsvortrag mit interaktiven Diskussionen und Netzwerk-Möglichkeiten. Alle Teilnehmenden werden aktiv eingebunden\, tauschen Erfahrungen aus und entwickeln erste konkrete Ansätze für ihr eigenes Marketing. \nZiel der Veranstaltung ist es\, Unsicherheiten rund um das Thema Marketing abzubauen und aufzuzeigen\, wie es als strategisches Werkzeug zur Positionierung und Wachstumsförderung genutzt werden kann. Am Ende des Abends nehmen die Teilnehmenden praktische Ideen und Impulse für ihre nächsten Schritte mit – und neue Kontakte aus der Gründerszene. \nDie Veranstaltung ist kostenlos und findet statt in der Hochschule Weserbergland (Am Stockhof 2\, 31785 Hameln). Interessierte können sich bis zum 11.09.2026 über den Anmeldebutton anmelden.
URL:https://zedita.de/event/themenabend-fuer-gruendende-und-gruendungsinteressierte-marketing-ideen-sichtbar-machen/
LOCATION:Hochschule Weserbergland\, Am Stockhof 2\, Hameln\, Niedersachsen\, 31785\, Deutschland
CATEGORIES:Public,startup
ATTACH;FMTTYPE=image/jpeg:https://zedita.de/wp-content/uploads/2026/01/Vorlage-Homepage-startup-2.jpg
END:VEVENT
BEGIN:VEVENT
DTSTART;TZID=Europe/Berlin:20261008T170000
DTEND;TZID=Europe/Berlin:20261008T210000
DTSTAMP:20260422T144700
CREATED:20251205T081421Z
LAST-MODIFIED:20260309T101935Z
UID:6189-1791478800-1791493200@zedita.de
SUMMARY:After Work Event
DESCRIPTION:After Work: Lasst uns netzwerken!\nWir wollen uns vernetzen. Deswegen bieten wir in Zusammenarbeit mit HamelnR regelmäßige After Work Events an. \nWorum geht es?\nOb Unternehmer\, Startups oder einfach Interessierte – bei uns sind alle willkommen\, die Lust auf spannende Kontakte und inspirierenden Austausch haben. Bei guter Musik und erfrischenden Drinks entsteht die perfekte Gelegenheit\, um neue Netzwerke zu knüpfen oder bestehende zu vertiefen.
URL:https://zedita.de/event/after-work-event-13/
LOCATION:zedita\, Bahnhofsplatz 19\, Hameln
CATEGORIES:Public
ATTACH;FMTTYPE=image/png:https://zedita.de/wp-content/uploads/2023/05/Kopie-von-Kein-Titel-Praesentation-169.png
END:VEVENT
BEGIN:VEVENT
DTSTART;TZID=Europe/Berlin:20261112T160000
DTEND;TZID=Europe/Berlin:20261112T180000
DTSTAMP:20260422T144700
CREATED:20260217T094350Z
LAST-MODIFIED:20260217T100442Z
UID:6511-1794499200-1794506400@zedita.de
SUMMARY:Podiumsdiskussion: Fördertöpfe und Finanzierung
DESCRIPTION:Die Gründung eines Startups ist ein spannender\, aber auch herausfordernder Prozess – besonders\, wenn es um Finanzierung und Fördermittel geht. Doch welche Förderprogramme gibt es? Wie beantragt man sie erfolgreich? Und welche Erfahrungen haben andere Gründende gemacht? \nIn dieser Podiumsdiskussion erhalten Sie praktische Einblicke\, konkrete Tipps und die Möglichkeit\, Ihre Fragen direkt an Expert*innen und Gründende zu richten: \n  \n✅ Orientierung im Förder-Dschungel \n✅ Praxisnahe Einblicke statt Theorie \n✅ Förderung als strategisches Geschäftsinstrument \n✅ Fehler vermeiden statt nur Chancen sehen \n✅ Mut machen\, aber ehrlich bleiben \n  \nDie Veranstaltung ist kostenlos. Interessierte können sich bis zum 06.11.2026 über den Anmeldebutton anmelden. \nWir freuen uns auf eine spannende Diskussion und den Austausch mit Ihnen!
URL:https://zedita.de/event/podiumsdiskussion-foerdertoepfe-und-finanzierung/
LOCATION:zedita\, Bahnhofsplatz 19\, Hameln
ATTACH;FMTTYPE=image/jpeg:https://zedita.de/wp-content/uploads/2026/02/Bild-Podiumsdiskussion.jpg
END:VEVENT
END:VCALENDAR