BEGIN:VCALENDAR
VERSION:2.0
PRODID:-//zedita - ECPv6.11.1//NONSGML v1.0//EN
CALSCALE:GREGORIAN
METHOD:PUBLISH
X-WR-CALNAME:zedita
X-ORIGINAL-URL:https://zedita.de
X-WR-CALDESC:Veranstaltungen für zedita
REFRESH-INTERVAL;VALUE=DURATION:PT1H
X-Robots-Tag:noindex
X-PUBLISHED-TTL:PT1H
BEGIN:VTIMEZONE
TZID:Europe/Berlin
BEGIN:DAYLIGHT
TZOFFSETFROM:+0100
TZOFFSETTO:+0200
TZNAME:CEST
DTSTART:20260329T010000
END:DAYLIGHT
BEGIN:STANDARD
TZOFFSETFROM:+0200
TZOFFSETTO:+0100
TZNAME:CET
DTSTART:20261025T010000
END:STANDARD
END:VTIMEZONE
BEGIN:VEVENT
DTSTART;TZID=Europe/Berlin:20260421T140000
DTEND;TZID=Europe/Berlin:20260421T163000
DTSTAMP:20260423T104238
CREATED:20260305T120309Z
LAST-MODIFIED:20260401T102422Z
UID:6535-1776780000-1776789000@zedita.de
SUMMARY:New Work Festival
DESCRIPTION:Frische Impulse\, neue Perspektiven und echte Einblicke aus der Praxis: Beim New Work Festival vom Projekt zedita.zukunftsforum erwarten euch inspirierende Beiträge von Metaplan\, visuelles Mitdenken durch Graphic Recording sowie spannende Insights des regionalen Möbelherstellers WINI Büromöbel rund um moderne Arbeitswelten. \nImpuls von Dr. Alexander Heindl (Metaplan)\n„Von Menschen und (klugen) Maschinen: Wie künstliche Intelligenz Organisationen\, Entscheidungen und Führung verändert.“\nManchmal hilft ein nüchterner Blick – besonders bei einem Thema wie KI\, wo Einschätzungen dynamisch zwischen Dystopie und Utopie hin und her pendeln. Gerade in Organisationen ist das Thema hochaktuell und stellt festgeglaubte Wahrheiten disruptiv infrage: Inwiefern verändert KI Führung? Braucht es Führung noch – gerade wenn Maschinen zunehmend „entscheiden“?\nIn diesem Impuls geht Alexander Heindl diesen Fragen aus Perspektive der Organisationssoziologie und auf Basis eines spitzen Führungsbegriff nach. Es wird sich zeigen\, dass KI Führung nicht einfach obsolet macht\, sondern vielmehr neue Führungsnotwendigkeiten und -räume entstehen. KI zwingt Organisationen letztlich dazu\, präziser zu organisieren: Welche Funktionen soll KI genau erfüllen? Welche unvorhergesehenen Folgen hat sie? Und wie verändert sie die Organisation dadurch selbst? Nur wenn diese Fragen präzise beantwortet werden\, kann man die Chancen nutzen\, die KI für Führung bietet.\nDr. Alexander Heindl ist Organisationsberater bei Metaplan und begleitet Organisationen aller Couleur bei der Reorganisation ihrer Strukturen. Als Sozialphilosoph und Autor fokussiert er sich auf die Untersuchung gesellschaftlicher und organisationaler Strukturen und blickt auf vielfältige Erfahrungen in Forschung und Lehre zurück. Zuletzt erschien sein Buch „Solidarität und Kontingenz“ in der Buchreihe des Instituts für Sozialforschung.\nMetaplan ist eine wissenschaftlich fundiert arbeitende Organisations- und Strategieberatung mit mehr als 70 Berater:innen in neun Ländern weltweit. Metaplan verbindet Erfahrungen aus Lehre und Forschung der Organisationssoziologie mit jahrzehntelanger Beratungspraxis und unterstützt Organisationen bei der Umsetzung komplexer Vorhaben – etwa bei der nachhaltigen Gestaltung von Transformationen\, der strategischen Neuausrichtung\, der Veränderung von Organisationsstrukturen oder bei Fragen der Zusammenarbeit\, Organisationskultur und digitalen Transformation. \nGraphic Recording mit Ines Schaffranek\nInes Schaffranek arbeitet seit 2015 als Graphic Recorderin. Sie verwandelt Informationsfluten in anschauliche Botschaften\, damit Menschen schnell einen gemeinsamen Nenner finden und die besten Entscheidungen treffen können. Graphic Recording macht komplexe Themen sichtbar und greifbar. Live gezeichnet\, nachhaltig dokumentiert\, zum Teilen designt. \nEinblicke von WINI Büromöbel\n„New Work wird im Raum entschieden“\nNew Work ist mehr als ein kulturelles Konzept – es muss im Arbeitsalltag funktionieren. Viele Arbeitsumgebungen sind für eine Arbeitswelt gemacht\, die es so nicht mehr gibt. WINI Büromöbel zeigt\, wie moderne Arbeitsumgebungen gezielt entwickelt werden\, um Zusammenarbeit\, Konzentration und Veränderung nachhaltig zu unterstützen. \nIm Anschluss geht es weiter mit unserem After Work Event mit HamelnR – mit weiteren Impulsen\, Austausch und Networking in entspannter Atmosphäre.
URL:https://zedita.de/event/new-work-festival/
LOCATION:zedita\, Bahnhofsplatz 19\, Hameln
CATEGORIES:Public,zukunftsforum
ATTACH;FMTTYPE=image/jpeg:https://zedita.de/wp-content/uploads/2026/03/Vorlage-Homepage.jpg
END:VEVENT
BEGIN:VEVENT
DTSTART;TZID=Europe/Berlin:20260421T170000
DTEND;TZID=Europe/Berlin:20260421T210000
DTSTAMP:20260423T104238
CREATED:20260309T101632Z
LAST-MODIFIED:20260309T101632Z
UID:6538-1776790800-1776805200@zedita.de
SUMMARY:After Work Event - Thema: Schöne neue Arbeitswelt?
DESCRIPTION:After Work: Lasst uns netzwerken!\nWir wollen uns vernetzen. Deswegen bieten wir in Zusammenarbeit mit HamelnR regelmäßige After Work Events an. \nWorum geht es?\nOb Unternehmer\, Startups oder einfach Interessierte – bei uns sind alle willkommen\, die Lust auf spannende Kontakte und inspirierenden Austausch haben. Bei guter Musik und erfrischenden Drinks entsteht die perfekte Gelegenheit\, um neue Netzwerke zu knüpfen oder bestehende zu vertiefen. \nOrganisationen\, Räume und Digitalisierung im Wandel\nUnsere Arbeitswelt verändert sich rasant: Neue Organisationsformen\, flexible Bürokonzepte und digitale Technologien – von kollaborativen Tools bis hin zu agentischer KI – prägen zunehmend\, wie wir arbeiten\, kommunizieren und Entscheidungen treffen. Doch was bedeutet das konkret für Unternehmen\, Teams und Führung? \nBei unserem nächsten After Work wird das Thema zur Mitmach-Messe: Verschiedene Partner\, unter anderem WINI Büromöbel\, Metaplan und in2success präsentieren an interaktiven Stationen ihre Perspektiven auf die neue Arbeitswelt – von Organisationsformen über moderne Arbeitsumgebungen bis hin zu digitalen Tools und KI-Anwendungen. Du kannst dich informieren\, ausprobieren\, Fragen stellen und direkt mit Expertinnen und Experten ins Gespräch kommen. \nZum Auftakt gibt es eine kurze Vorstellungsrunde der teilnehmenden Partner\, danach lädt die Messe zum freien Erkunden der Stationen ein. Wie gewohnt findet das Ganze in entspannter After-Work-Atmosphäre bei zedita statt – mit Snacks\, Drinks und DJ-Musik sowie viel Raum für Austausch und Networking. \nMelde dich über die folgende Seite an und bezahle am Veranstaltungstag bargeldlos per Karte vor Ort oder sichere dir für vergünstigte 12 € Eintritt direkt dein Online-Ticket.
URL:https://zedita.de/event/after-work-event-thema-schoene-neue-arbeitswelt/
LOCATION:zedita\, Bahnhofsplatz 19\, Hameln
CATEGORIES:Public
ATTACH;FMTTYPE=image/png:https://zedita.de/wp-content/uploads/2023/05/Kopie-von-Kein-Titel-Praesentation-169.png
END:VEVENT
END:VCALENDAR