BEGIN:VCALENDAR
VERSION:2.0
PRODID:-//zedita - ECPv6.11.1//NONSGML v1.0//EN
CALSCALE:GREGORIAN
METHOD:PUBLISH
X-WR-CALNAME:zedita
X-ORIGINAL-URL:https://zedita.de
X-WR-CALDESC:Veranstaltungen für zedita
REFRESH-INTERVAL;VALUE=DURATION:PT1H
X-Robots-Tag:noindex
X-PUBLISHED-TTL:PT1H
BEGIN:VTIMEZONE
TZID:Europe/Berlin
BEGIN:DAYLIGHT
TZOFFSETFROM:+0100
TZOFFSETTO:+0200
TZNAME:CEST
DTSTART:20260329T010000
END:DAYLIGHT
BEGIN:STANDARD
TZOFFSETFROM:+0200
TZOFFSETTO:+0100
TZNAME:CET
DTSTART:20261025T010000
END:STANDARD
END:VTIMEZONE
BEGIN:VEVENT
DTSTART;VALUE=DATE:20260219
DTEND;VALUE=DATE:20260320
DTSTAMP:20260424T123353
CREATED:20260127T095446Z
LAST-MODIFIED:20260127T095446Z
UID:6403-1771459200-1773964799@zedita.de
SUMMARY:Ausstellung „Die Torten der Wahrheit“
DESCRIPTION:Diese Ausstellung wird organisiert und durchgeführt vom Verein Denkanstoß Hameln e.V.. \nDie Ausstellung zeigt mit viel Humor\, welche Grundlagen und Auswirkungen in einigen Vorurteilen unserer Gesellschaft stecken. Sie geht damit Desinformationen und Fake News direkt auf den Grund.\nZielpublikum: Schulklassen\, Vereine u. Verbände\, Kommunalpolitik\, Verwaltungen\, interessierte Bürgerinnen u. Bürger\, Reisende. Wir bieten Führungen zur Ausstellung besonders für Schulkassen an. \nWeitere Informationen unter: www.denkanstoss-hameln.de
URL:https://zedita.de/event/ausstellung-die-torten-der-wahrheit/
LOCATION:Bahnhof Hameln\, Bahnhofsplatz\, Hameln\, 31785\, Germany
CATEGORIES:Public
ATTACH;FMTTYPE=image/jpeg:https://zedita.de/wp-content/uploads/2026/01/Vorlage-Homepage-20.jpg
END:VEVENT
END:VCALENDAR