BEGIN:VCALENDAR
VERSION:2.0
PRODID:-//zedita - ECPv6.11.1//NONSGML v1.0//EN
CALSCALE:GREGORIAN
METHOD:PUBLISH
X-WR-CALNAME:zedita
X-ORIGINAL-URL:https://zedita.de
X-WR-CALDESC:Veranstaltungen für zedita
REFRESH-INTERVAL;VALUE=DURATION:PT1H
X-Robots-Tag:noindex
X-PUBLISHED-TTL:PT1H
BEGIN:VTIMEZONE
TZID:Europe/Berlin
BEGIN:DAYLIGHT
TZOFFSETFROM:+0100
TZOFFSETTO:+0200
TZNAME:CEST
DTSTART:20250330T010000
END:DAYLIGHT
BEGIN:STANDARD
TZOFFSETFROM:+0200
TZOFFSETTO:+0100
TZNAME:CET
DTSTART:20251026T010000
END:STANDARD
END:VTIMEZONE
BEGIN:VEVENT
DTSTART;TZID=Europe/Berlin:20250209T123000
DTEND;TZID=Europe/Berlin:20250209T170000
DTSTAMP:20260424T103647
CREATED:20250109T114145Z
LAST-MODIFIED:20250109T114145Z
UID:5742-1739104200-1739120400@zedita.de
SUMMARY:„Markt der Demokratie“ mit Live-Wahl-O-Mat und Wahlarena
DESCRIPTION:Der Verein Denkanstoß Hameln e.V. lädt herzlich zur Veranstaltung „Markt der Demokratie“ mit Live-Wahl-O-Mat und „Wahlarena“ ein. Die Veranstaltung soll ein Informations- und Diskussionsangebot zur Bundestagswahl 2025 sein\, bei dem das persönliche Gespräch\, das Kennenlernen und der sachliche Austausch über Parteigrenzen hinweg im Vordergrund stehen.\nWeitere Informationen unter: https://denkanstoss-hameln.de/archive/2295
URL:https://zedita.de/event/markt-der-demokratie-mit-live-wahl-o-mat-und-wahlarena/
LOCATION:zedita\, Bahnhofsplatz 19\, Hameln
CATEGORIES:Public
ATTACH;FMTTYPE=image/jpeg:https://zedita.de/wp-content/uploads/2025/01/Vorlage-Homepage-2-1.jpg
END:VEVENT
END:VCALENDAR