BEGIN:VCALENDAR
VERSION:2.0
PRODID:-//zedita - ECPv6.11.1//NONSGML v1.0//EN
CALSCALE:GREGORIAN
METHOD:PUBLISH
X-ORIGINAL-URL:https://zedita.de
X-WR-CALDESC:Veranstaltungen für zedita
REFRESH-INTERVAL;VALUE=DURATION:PT1H
X-Robots-Tag:noindex
X-PUBLISHED-TTL:PT1H
BEGIN:VTIMEZONE
TZID:Europe/Berlin
BEGIN:DAYLIGHT
TZOFFSETFROM:+0100
TZOFFSETTO:+0200
TZNAME:CEST
DTSTART:20250330T010000
END:DAYLIGHT
BEGIN:STANDARD
TZOFFSETFROM:+0200
TZOFFSETTO:+0100
TZNAME:CET
DTSTART:20251026T010000
END:STANDARD
END:VTIMEZONE
BEGIN:VEVENT
DTSTART;TZID=Europe/Berlin:20250129T160000
DTEND;TZID=Europe/Berlin:20250129T180000
DTSTAMP:20260424T090229
CREATED:20241217T104843Z
LAST-MODIFIED:20241217T105420Z
UID:5706-1738166400-1738173600@zedita.de
SUMMARY:zufo.meetup Datenkompetenz meets KI
DESCRIPTION:Wir besprechen\, dass Prognosen mit Unsicherheiten verbunden sind; besonders wenn sie auf die Zukunft gerichtet sind 😉. \nOb und wie uns KI helfen kann\, dieses Dilemma aufzulösen\, erarbeiten wir gemeinsam beim Meetup der KI und Datenkompetenz Community. \nDeine Highlights:\n🎮 KI-Anwendung: Mach mit und benutze eine KI!\n💡 Auflösung & Diskussion: Was Biases mit KI zu tun haben.
URL:https://zedita.de/event/zufo-meetup-datenkompetenz-meets-ki/
LOCATION:zedita\, Bahnhofsplatz 19\, Hameln
CATEGORIES:Public,zukunftsforum
ATTACH;FMTTYPE=image/jpeg:https://zedita.de/wp-content/uploads/2024/12/Vorlage-Homepage-1.jpg
END:VEVENT
END:VCALENDAR