BEGIN:VCALENDAR
VERSION:2.0
PRODID:-//zedita - ECPv6.11.1//NONSGML v1.0//EN
CALSCALE:GREGORIAN
METHOD:PUBLISH
X-ORIGINAL-URL:https://zedita.de
X-WR-CALDESC:Veranstaltungen für zedita
REFRESH-INTERVAL;VALUE=DURATION:PT1H
X-Robots-Tag:noindex
X-PUBLISHED-TTL:PT1H
BEGIN:VTIMEZONE
TZID:Europe/Berlin
BEGIN:DAYLIGHT
TZOFFSETFROM:+0100
TZOFFSETTO:+0200
TZNAME:CEST
DTSTART:20240331T010000
END:DAYLIGHT
BEGIN:STANDARD
TZOFFSETFROM:+0200
TZOFFSETTO:+0100
TZNAME:CET
DTSTART:20241027T010000
END:STANDARD
END:VTIMEZONE
BEGIN:VEVENT
DTSTART;TZID=Europe/Berlin:20241212T120000
DTEND;TZID=Europe/Berlin:20241212T130000
DTSTAMP:20260423T212419
CREATED:20241106T095820Z
LAST-MODIFIED:20241112T110912Z
UID:5666-1734004800-1734008400@zedita.de
SUMMARY:zufo Online-Meetup Datenkompetenz "Prozessautomatisierung"
DESCRIPTION:Alexander Stillich (Lenze) hält einen Impulsvortrag zum Thema: Prozessautomatisierung – zwischen Daten\, Technologie und Menschen. Er wird berichten\, wie das Thema praktisch angegangen wurde und was für Erfolgsfaktoren identifiziert werden konnten. Im Anschluss bleibt natürlich noch Zeit für Fragen\, Austausch und zum Vernetzen.\nDer MS-Teams Link wird kurz vorher an alle angemeldeten versendet.
URL:https://zedita.de/event/zufo-online-meetup-data-professionals/
LOCATION:Microsoft Teams
CATEGORIES:Public,zukunftsforum
ATTACH;FMTTYPE=image/jpeg:https://zedita.de/wp-content/uploads/2024/09/Vorlage-Homepage-1.jpg
END:VEVENT
END:VCALENDAR