BEGIN:VCALENDAR
VERSION:2.0
PRODID:-//zedita - ECPv6.11.1//NONSGML v1.0//EN
CALSCALE:GREGORIAN
METHOD:PUBLISH
X-WR-CALNAME:zedita
X-ORIGINAL-URL:https://zedita.de
X-WR-CALDESC:Veranstaltungen für zedita
REFRESH-INTERVAL;VALUE=DURATION:PT1H
X-Robots-Tag:noindex
X-PUBLISHED-TTL:PT1H
BEGIN:VTIMEZONE
TZID:Europe/Berlin
BEGIN:DAYLIGHT
TZOFFSETFROM:+0100
TZOFFSETTO:+0200
TZNAME:CEST
DTSTART:20240331T010000
END:DAYLIGHT
BEGIN:STANDARD
TZOFFSETFROM:+0200
TZOFFSETTO:+0100
TZNAME:CET
DTSTART:20241027T010000
END:STANDARD
END:VTIMEZONE
BEGIN:VEVENT
DTSTART;TZID=Europe/Berlin:20241107T140000
DTEND;TZID=Europe/Berlin:20241107T170000
DTSTAMP:20260423T170133
CREATED:20240417T084345Z
LAST-MODIFIED:20241014T103605Z
UID:5191-1730988000-1730998800@zedita.de
SUMMARY:2. Innovationswerkstatt des zedita.zukunftsforum
DESCRIPTION:Anmelden \n\nWas ist das Projekt zedita.zukunftsforum?\nDas zedita.zukunftsforum ist eines von vier Leitprojekten der Zukunftsregion Weserbergland+. Im Mittelpunkt steht das Thema Innovation. Angesiedelt ist das Zukunftsforum bei zedita\, dem Innovations- und Transferknotenpunkt der Hochschule Weserbergland. Der Fokus liegt auf der Vernetzung und Begleitung von Unternehmen bei der Gestaltung der digitalen Transformation.\nInsbesondere kleine und mittlere Unternehmen (KMU) werden unterstützt. Im Idealfall mündet die Arbeit in gemeinsamen Projekten. \nWorum geht es bei der 2. Innovationswerkstatt?\nAn der Innovationswerkstatt kann jede*r teilnehmen. Eingeladen sind vor allem Vertreter*innen von Unternehmen\, die an einer Vernetzung und themenbezogenen Zusammenarbeit auf Augenhöhe interessiert sind. Im Rahmen der Innovationswerkstatt wird über aktuelle Themen gesprochen und in den Arbeitsgruppen diskutiert. Die Arbeitsgruppen werden vom Projektteam nach der Innovationswerkstatt weiter begleitet. \nWANN?\n07.11.2024 | 14:00 Uhr – 17:30 Uhr \nWO?\nzedita | Hamelner Bahnhof\, 1. Etage \, Bahnhofsplatz 19-23\, 31785 Hameln \nWie läuft die 2. Innovationswerkstatt ab?\n14:00 Uhr Check in und Begrüßung\n14:30 Uhr Keynote: “Einsatz von IoT-Beratung und Machine Learning im Schaltschrankbau” von der SCHUBS GmbH und der Aerzen Digital Systems GmbH\n15:15 Uhr Pause und Arbeitsgruppen finden\n15:30 Uhr Gruppenarbeit\n16:45 Uhr Abschluss und Get together \nKeynote: Einsatz von IoT-Beratung und Machine Learning im Schaltschrankbau – Innovation in der Region\nIn der Keynote “Einsatz von IoT-Beratung und Machine Learning im Schaltschrankbau” geben Experten der SCHUBS GmbH und der Aerzen Digital Systems GmbH exklusive Einblicke in das innovative Gemeinschaftsprojekt. Die Aerzen Digital Systems GmbH\, ein führender Anbieter digitaler Lösungen und IoT-Beratung der Region\, unterstützt die SCHUBS GmbH dabei\, Fertigungsprozesse durch den Einsatz von Datenanalyse und Machine Learning zu optimieren. Das Hauptziel des Projekts besteht darin\, Daten von kritischen Maschinen zu erfassen\, Anomalien frühzeitig zu erkennen und mithilfe prädiktiver Modelle Störungen vorherzusagen. Diese innovativen Ansätze sorgen nicht nur für eine höhere Effizienz\, sondern auch für eine signifikante Reduktion von Stillstandszeiten und Wartungskosten. \nDie Agenda der Keynote\n– Vorstellung Aerzen Digital Systems GmbH\n– Referenzfälle von Aerzen Digital Systems GmbH\n– Künstliche Intelligenz im Maschinen- und Anlagenbau\n– Vorstellung der SCHUBS GmbH\n– Optimierung der Kabelkonfektionierung\n– Projektstatus und technische Lösungen\n– Zukunftsaussichten und Technologien \nPotenziale und Möglichkeiten\nNeben den bisherigen Erfolgen werden auch die Potenziale von KI und Machine Learning im Maschinenbau erörtert. Wir werden von mögliche Geschäftsmodelle und neue Use Cases berichten\, die einen Eindruck davon vermitteln\, wie sich der Markt in Zukunft entwickeln könnte. \n  \nDas passiert in den Communitys \nCyber Security/ IT-Sicherheit mit Prof. Dr. Florian Schimanke\nIn der Community Cyber Security wird sich mit dem Spannungsfeld zwischen Unternehmens-IT\, Geschäftsführung und Personalabteilung auseinandergesetzt. Während die Personalabteilung versucht\, neue Mitarbeiter zu gewinnen und Fachkräfte zu halten und dabei inzwischen auch deren Wünsche an den Arbeitgeber\, wie z.B. bestimmte Arbeitsmittel\, berücksichtigen muss\, ist es Aufgabe der Unternehmens-IT\, diese Geräte so zu verwalten\, dass die Sicherheit der IT-Infrastruktur gewährleistet bleibt. Ausnahmen\, z.B. für die Geschäftsführung\, kann es dabei nicht geben. In diesem Spannungsfeld gilt es\, einen gesunden Mittelweg zu finden\, der alle Sichtweisen und Faktoren berücksichtigt. Genau darum soll es bei der 2. Innovationswerkstatt gehen\, um so auch das Verständnis zwischen den verschiedenen Stakeholdern zu verbessern. \nDatenkompetenz mit Dr. Carina Engelhardt\nStorytelling mit Daten: Anatomie eines Vortrags\nIm Workshop der Community für Datenkompetenz wollen wir uns den wesentlichen Elementen des Storytellings mit Daten nähern\, in dem wir gemeinsam einen Vortrag sezieren. Der Workshop richtet sich an alle\, die an ihrer Datenkompetenz arbeiten möchten oder einfach daran interessiert sind\, wie Daten und Fakten möglichst verständlich und anschaulich präsentiert werden können. Er bietet auch eine gute Übungsmöglichkeit für alle\, die sich bereits mit Storytelling mit Daten beschäftigen. \nNew Work & agiles Arbeiten mit Basti Reh\nTransformation ist mehr als ein Schlagwort – sie ist komplex und bedarf effektiver Hebel sowie einem tiefen Organisationsverständnis. In unserer New-Work-Community beleuchten wir aus systemischer Perspektive\, welche Faktoren Wandel in Unternehmen vorantreiben. Zudem diskutieren wir\, wie Team-Zusammenhalt in Zeiten orts- und zeitunabhängiger Arbeit erhalten werden kann. Der Workshop richtet sich an alle\, die die Zukunft der Arbeit aktiv mitgestalten und nachhaltige Veränderungen in ihrem Unternehmen fördern möchten. \nDer Kunde im Fokus: Marketing für effektives Wachstum mit Prof. Dr. André von Zobeltitz und Sherlock & Watson\nKundenorientierung ist mehr als ein Trend – sie bildet das Herzstück eines erfolgreichen Unternehmens. In unserer Arbeitsgruppe konzentrieren wir uns auf die Gewinnung und Bindung von Neukunden. Das Ziel ist ein praxisnaher Austausch darüber\, wie die Nutzung von Kundendaten und der Einsatz der richtigen Marketingkanäle und -instrumente den größtmöglichen Effekt erzielen. Der Workshop richtet sich an alle\, die Marketing als Motor für langfristiges Wachstum verstehen und ihren Fokus auf die Bedürfnisse ihrer Kunden schärfen möchten. \nKünstliche Intelligenz mit Prof. Dr. Meik Friedrich\nKünstliche Intelligenz (KI) transformiert die Arbeitswelt\, indem sie Prozesse automatisiert\, Effizienz steigert und neue Möglichkeiten für datengetriebene Entscheidungsfindung bietet. Diese Technologie ermöglicht es Unternehmen\, schneller auf Marktveränderungen zu reagieren und individuelle Lösungen für Kundenbedürfnisse zu entwickeln. In unserer KI-Community schaffen wir eine lebendige Austauschplattform\, auf der Expert*innen und Interessierte zusammenkommen. Ziel ist es\, Wissen zu teilen\, voneinander zu lernen und gemeinsam Ideen zu entwickeln. Durch Vernetzung und offenen Dialog entsteht eine starke Community\, die den Einsatz von KI in verschiedenen Bereichen fördern wird.
URL:https://zedita.de/event/2-innovationswerkstatt-des-zedita-zukunftsforum/
LOCATION:zedita\, Bahnhofsplatz 19\, Hameln
CATEGORIES:Public,zukunftsforum
ATTACH;FMTTYPE=image/jpeg:https://zedita.de/wp-content/uploads/2024/04/Vorlage-Homepage.jpg
END:VEVENT
END:VCALENDAR