BEGIN:VCALENDAR
VERSION:2.0
PRODID:-//zedita - ECPv6.11.1//NONSGML v1.0//EN
CALSCALE:GREGORIAN
METHOD:PUBLISH
X-ORIGINAL-URL:https://zedita.de
X-WR-CALDESC:Veranstaltungen für zedita
REFRESH-INTERVAL;VALUE=DURATION:PT1H
X-Robots-Tag:noindex
X-PUBLISHED-TTL:PT1H
BEGIN:VTIMEZONE
TZID:Europe/Berlin
BEGIN:DAYLIGHT
TZOFFSETFROM:+0100
TZOFFSETTO:+0200
TZNAME:CEST
DTSTART:20240331T010000
END:DAYLIGHT
BEGIN:STANDARD
TZOFFSETFROM:+0200
TZOFFSETTO:+0100
TZNAME:CET
DTSTART:20241027T010000
END:STANDARD
END:VTIMEZONE
BEGIN:VEVENT
DTSTART;TZID=Europe/Berlin:20241028T120000
DTEND;TZID=Europe/Berlin:20241028T130000
DTSTAMP:20260423T151150
CREATED:20240923T123324Z
LAST-MODIFIED:20240930T082821Z
UID:5628-1730116800-1730120400@zedita.de
SUMMARY:zufo.meetup Data Professionals (online)
DESCRIPTION:Alle Data Professionals sind herzlich zum nächsten Meetup eingeladen. Nehmt teil und nutzt die Gelegenheit zum Netzwerken. Wenn du ein konkretes Thema in das Meetup einbringen möchtest\, melde dich gerne bei Carina Engelhardt (engelhardt@hsw-hameln.de). \nDen Link zur Veranstaltung erhältst Du kurz vor dem Termin.
URL:https://zedita.de/event/zufo-meetup-data-professionals-online-2/
LOCATION:Microsoft Teams
CATEGORIES:Public,zukunftsforum
ATTACH;FMTTYPE=image/jpeg:https://zedita.de/wp-content/uploads/2024/09/Vorlage-Homepage-1.jpg
END:VEVENT
END:VCALENDAR