BEGIN:VCALENDAR
VERSION:2.0
PRODID:-//zedita - ECPv6.11.1//NONSGML v1.0//EN
CALSCALE:GREGORIAN
METHOD:PUBLISH
X-WR-CALNAME:zedita
X-ORIGINAL-URL:https://zedita.de
X-WR-CALDESC:Veranstaltungen für zedita
REFRESH-INTERVAL;VALUE=DURATION:PT1H
X-Robots-Tag:noindex
X-PUBLISHED-TTL:PT1H
BEGIN:VTIMEZONE
TZID:Europe/Berlin
BEGIN:DAYLIGHT
TZOFFSETFROM:+0100
TZOFFSETTO:+0200
TZNAME:CEST
DTSTART:20240331T010000
END:DAYLIGHT
BEGIN:STANDARD
TZOFFSETFROM:+0200
TZOFFSETTO:+0100
TZNAME:CET
DTSTART:20241027T010000
END:STANDARD
END:VTIMEZONE
BEGIN:VEVENT
DTSTART;VALUE=DATE:20241025
DTEND;VALUE=DATE:20241028
DTSTAMP:20260423T164903
CREATED:20240522T083946Z
LAST-MODIFIED:20240724T101114Z
UID:5252-1729814400-1730073599@zedita.de
SUMMARY:Hackathon HamelnHack
DESCRIPTION:Mehr Infos unter www.hamelnhack.de
URL:https://zedita.de/event/hackathon-hamelnhack/
LOCATION:zedita\, Bahnhofsplatz 19\, Hameln
CATEGORIES:Public
ATTACH;FMTTYPE=image/jpeg:https://zedita.de/wp-content/uploads/2024/05/hamelnhack24-1.jpg
END:VEVENT
END:VCALENDAR