BEGIN:VCALENDAR
VERSION:2.0
PRODID:-//zedita - ECPv6.11.1//NONSGML v1.0//EN
CALSCALE:GREGORIAN
METHOD:PUBLISH
X-ORIGINAL-URL:https://zedita.de
X-WR-CALDESC:Veranstaltungen für zedita
REFRESH-INTERVAL;VALUE=DURATION:PT1H
X-Robots-Tag:noindex
X-PUBLISHED-TTL:PT1H
BEGIN:VTIMEZONE
TZID:Europe/Berlin
BEGIN:DAYLIGHT
TZOFFSETFROM:+0100
TZOFFSETTO:+0200
TZNAME:CEST
DTSTART:20240331T010000
END:DAYLIGHT
BEGIN:STANDARD
TZOFFSETFROM:+0200
TZOFFSETTO:+0100
TZNAME:CET
DTSTART:20241027T010000
END:STANDARD
END:VTIMEZONE
BEGIN:VEVENT
DTSTART;TZID=Europe/Berlin:20240913T100000
DTEND;TZID=Europe/Berlin:20240913T120000
DTSTAMP:20260423T135308
CREATED:20240812T122947Z
LAST-MODIFIED:20240812T122947Z
UID:5608-1726221600-1726228800@zedita.de
SUMMARY:zufo.meetup Cyber Security: Einführung von NIS2 (zedita)
DESCRIPTION:Das nächste Treffen der „Cyber Security“ Community im Rahmen des zedita.zukunftsforums (ZuFo) wird sich vorrangig um die nahende Einführung von NIS2 (zweite EU-Richtlinie zur Netzwerk- und Informationssicherheit) drehen. Wie so häufig bei der Einführung von neuen Richtlinien\, gibt es auch im Zusammenhang mit NIS2 viel Unsicherheit. Ist mein Unternehmen betroffen? Bin ich als Teil der Lieferkette eines Kunden betroffen? Welche Maßnahmen müssen ergriffen werden? Welche Herausforderungen gehen damit einher? Über diese und weitere Fragen werden wir erneut in lockerer Runde sprechen und uns austauschen. Dabei steht uns ein externer Experte zur Seite\, der zunächst allgemein über NIS2 aufklären und anschließend für Fragen aus der Community zur Verfügung stehen wird.
URL:https://zedita.de/event/zufo-meetup-cyber-security-einfuehrung-von-nis2/
LOCATION:zedita\, Bahnhofsplatz 19\, Hameln
CATEGORIES:Public,zukunftsforum
ATTACH;FMTTYPE=image/jpeg:https://zedita.de/wp-content/uploads/2024/08/Vorlage-Homepage-10.jpg
END:VEVENT
END:VCALENDAR